BEGIN:VCALENDAR
PRODID:-//AT Content Types//AT Event//EN
VERSION:1.0
BEGIN:VEVENT
DTSTART:20071129T133000Z
DTEND:20071129T160000Z
DCREATED:20070930T154324Z
UID:ATEvent-9048141800a9b496f6881f37a0094eca
SEQUENCE:0
LAST-MODIFIED:20090123T152028Z
SUMMARY:Literatur- und Gesprächskreis zum Matriarchat
DESCRIPTION:jeden letzten Donnerstag im Monat außer am 27. 12.\nLeitu
 ng\: Gunnel Christine Hinrichsen
LOCATION:Café Aufbruch\, Hintere Schildstr. 18\, Do-Hörde
PRIORITY:3
TRANSP:0
END:VEVENT
END:VCALENDAR
