BEGIN:VCALENDAR
PRODID:-//AT Content Types//AT Event//EN
VERSION:1.0
BEGIN:VEVENT
DTSTART:20070628T130000Z
DTEND:20070628T160000Z
DCREATED:20070616T130415Z
UID:ATEvent-cddbda8d3437ae2e67b41f95aea9c6df
SEQUENCE:0
LAST-MODIFIED:20090123T152023Z
SUMMARY:Gesprächskreis Frauenspezifisch
LOCATION:Café Aufbruch
PRIORITY:3
TRANSP:0
END:VEVENT
END:VCALENDAR
