BEGIN:VCALENDAR
PRODID:-//AT Content Types//AT Event//EN
VERSION:1.0
BEGIN:VEVENT
DTSTART:20170323T153000Z
DTEND:20170323T173000Z
DCREATED:20170227T143313Z
UID:ATEvent-ab1dfbdc08f70272f40817094230d0aa
SEQUENCE:0
LAST-MODIFIED:20170227T143333Z
SUMMARY:Gedenkfeier für Heidemarie Schwermer
DESCRIPTION:Heidemarie Schwermer war vielen Menschen aus Dortmund beka
 nnt durch ihre alternativen Ideen und Aktivitäten\, insbesondere ihre
  Initiative "Gib und Nimm". Sie lebte jahrelang ohne Geld - eine Praxi
 s\, die ihr vor Ort und in den Medien viel Aufsehen\, aber auch Widers
 pruch einbrachte.
LOCATION:Café Aufbruch\, Hintere Schildstraße 18\, Dortmund Hörde
PRIORITY:3
TRANSP:0
END:VEVENT
END:VCALENDAR
