BEGIN:VCALENDAR
PRODID:-//AT Content Types//AT Event//EN
VERSION:2.0
METHOD:PUBLISH
BEGIN:VEVENT
DTSTAMP:20260421T112354Z
CREATED:20150302T130515Z
UID:ATEvent-91e40eb7246339e30ac20298511dc969
LAST-MODIFIED:20150302T130523Z
SUMMARY:Frühlingsspaziergang durch das Marksbachtal
DTSTART:20150321T133000Z
DTEND:20150321T143000Z
DESCRIPTION:Treffpunkt um 14 Uhr Ecke Bruchheck/Goymark.
LOCATION:Marksbachtal
CATEGORIES:Exkursion
CLASS:PUBLIC
END:VEVENT
END:VCALENDAR
