BEGIN:VCALENDAR
PRODID:-//AT Content Types//AT Event//EN
VERSION:1.0
BEGIN:VEVENT
DTSTART:20160713T170000Z
DTEND:20160713T180000Z
DCREATED:20160705T160421Z
UID:ATEvent-5383eb1ff53a58d409c845fa6e88a3c2
SEQUENCE:0
LAST-MODIFIED:20160705T160432Z
SUMMARY:Freifunk-Treffen
DESCRIPTION:Im Rahmen des freien Software-Treffs gibt es an jedem 2. M
 ittwoch des Monats auch Infos und Hilfe in Sachen Freifunk.
LOCATION:Café Aufbruch\, Hintere Schildstraße 18\, Dortmund Hörde
PRIORITY:3
TRANSP:0
END:VEVENT
END:VCALENDAR
