BEGIN:VCALENDAR
PRODID:-//AT Content Types//AT Event//EN
VERSION:1.0
BEGIN:VEVENT
DTSTART:20250302T110000Z
DTEND:20250302T150000Z
DCREATED:20250227T111003Z
UID:ATEvent-3d00814566468b1837f64b11a4ce3df7
SEQUENCE:0
LAST-MODIFIED:20250227T111335Z
SUMMARY:Flower Power…    der Frühling erwacht
DESCRIPTION:Ausstellungseröffnung
LOCATION:Café Aufbruch\, Hintere Schildstr. 18\, Dortmund-Hörde
PRIORITY:3
TRANSP:0
END:VEVENT
END:VCALENDAR
