BEGIN:VCALENDAR
PRODID:-//AT Content Types//AT Event//EN
VERSION:2.0
METHOD:PUBLISH
BEGIN:VEVENT
DTSTAMP:20260421T112733Z
CREATED:20141012T185530Z
UID:ATEvent-85507e549fb37f3e3201e1677f247652
LAST-MODIFIED:20141012T185538Z
SUMMARY:Finissage der  Ausstellung Stahlgeister 2014
DTSTART:20141031T173000Z
DTEND:20141031T190000Z
DESCRIPTION:Live Musik unplugged.
LOCATION:Café Aufbruch\, Hintere Schildstr. 18\, Dortmund Hörde
CATEGORIES:Ausstellung
CLASS:PUBLIC
END:VEVENT
END:VCALENDAR
