BEGIN:VCALENDAR
PRODID:-//AT Content Types//AT Event//EN
VERSION:2.0
METHOD:PUBLISH
BEGIN:VEVENT
DTSTAMP:20260421T112701Z
CREATED:20151229T164105Z
UID:ATEvent-26181570e745c4f8f2df168477610def
LAST-MODIFIED:20151229T164231Z
SUMMARY:Finissage der Ausstellung â€žBildaffÃ¤re mit PortrÃ¤tâ€œ
DTSTART:20160129T173000Z
DTEND:20160129T190000Z
DESCRIPTION:Unsere aktuelle Ausstellung \nâ€žBildaffÃ¤re mit PortrÃ¤tâ
 €œ\nendet heute.
LOCATION:CafÃ© Aufbruch\, Hintere SchildstraÃŸe 18\, Dortmund HÃ¶rde
CATEGORIES:Ausstellung
CLASS:PUBLIC
END:VEVENT
END:VCALENDAR
