BEGIN:VCALENDAR
PRODID:-//AT Content Types//AT Event//EN
VERSION:1.0
BEGIN:VEVENT
DTSTART:20131017T170000Z
DTEND:20131017T183000Z
DCREATED:20131002T081756Z
UID:ATEvent-4ef000149fb983ea2c7a65a8b11bb75f
SEQUENCE:0
LAST-MODIFIED:20131002T081941Z
SUMMARY:Filmvorführung\: "More than Honey"
DESCRIPTION:mit der Greenpeace Gruppe Dortmund.
LOCATION:Café Aufbruch\, Hintere Schildstr. 18\, Dortmund-Hörde
PRIORITY:3
TRANSP:0
END:VEVENT
END:VCALENDAR
