BEGIN:VCALENDAR
PRODID:-//AT Content Types//AT Event//EN
VERSION:2.0
METHOD:PUBLISH
BEGIN:VEVENT
DTSTAMP:20260421T090722Z
CREATED:20111226T141320Z
UID:ATEvent-08f5d4f774809c914bf10755b849996d
LAST-MODIFIED:20111226T141702Z
SUMMARY:Film mit anschließender Diskussion\: "Abschalten! Apaga y vámonos"
DTSTART:20120127T180000Z
DTEND:20120127T200000Z
DESCRIPTION:Dem indigenen Volk der Mapuches in Chile wurde durch den B
 au eines großen Staudammes die Lebensgrundlage entzogen. Elena Urruti
 a vom Kulturverein für die Menschenrechte der Mapuche –MARICHEWEU -
 \ngibt eine Einführung in das Thema und den Film.
LOCATION:Café Aufbruch\, Hintere Schildstr. 18\, Dortmund Hörde
CATEGORIES:Film mit Diskussion
CLASS:PUBLIC
END:VEVENT
END:VCALENDAR
