BEGIN:VCALENDAR
PRODID:-//AT Content Types//AT Event//EN
VERSION:2.0
METHOD:PUBLISH
BEGIN:VEVENT
DTSTAMP:20260421T082207Z
CREATED:20100414T142524Z
UID:ATEvent-978c0811dc79468193ebd45b1b3ba5e5
LAST-MODIFIED:20100414T142552Z
SUMMARY:"Erlebnisse eines togolesischen Asylbewerbers"
DTSTART:20100522T173000Z
DTEND:20100522T190000Z
DESCRIPTION:Kokou Apenouvon\, Autor der autobiographischen Erzählung 
 „Am Zuckerspeicher“ schildert Erlebnisse aus seiner gewählten neu
 en Heimat Deutschland.
LOCATION:Café Aufbruch\, Hintere Schildstr. 18\, Dortmund-Hörde
CATEGORIES:Lesung
CLASS:PUBLIC
END:VEVENT
END:VCALENDAR
