BEGIN:VCALENDAR
PRODID:-//AT Content Types//AT Event//EN
VERSION:1.0
BEGIN:VEVENT
DTSTART:20120204T140000Z
DTEND:20120204T170000Z
DCREATED:20120122T175652Z
UID:ATEvent-28240fc1815c6824d49a4f0b2df73b3f
SEQUENCE:0
LAST-MODIFIED:20120122T175901Z
SUMMARY:Entspannungstag - Lebensordnung - Loslassen und Kraftschöpfung für Körper und Seele
DESCRIPTION:Das Seminar bietet eine erholsame Auszeit vom oft belasten
 den Alltag.
LOCATION:Café Aufbruch\, Hintere Schildstr. 18\, Dortmund-Hörde
PRIORITY:3
TRANSP:0
END:VEVENT
END:VCALENDAR
