BEGIN:VCALENDAR
PRODID:-//AT Content Types//AT Event//EN
VERSION:2.0
METHOD:PUBLISH
BEGIN:VEVENT
DTSTAMP:20260421T101648Z
CREATED:20131103T163958Z
UID:ATEvent-03c679d165e5cfa0182bdb2ccada59d4
LAST-MODIFIED:20131103T164027Z
SUMMARY:Einladung zum Internationalen Tag gegen Gewalt an Frauen
DTSTART:20131125T130000Z
DTEND:20131125T153000Z
DESCRIPTION:Die Fraueninitiative Couragina und der Matriarchale Kultur
 kreis Dortmund laden nach dem Fahnenhissen am Dortmunder Rathaus ins C
 afé Aufbruch ein.
LOCATION:Café Aufbruch\, Hintere Schildstr. 18\, Dortmund Hörde
CATEGORIES:Gesprächsrunde
CLASS:PUBLIC
END:VEVENT
END:VCALENDAR
