BEGIN:VCALENDAR
PRODID:-//AT Content Types//AT Event//EN
VERSION:2.0
METHOD:PUBLISH
BEGIN:VEVENT
DTSTAMP:20260421T082246Z
CREATED:20220725T132247Z
UID:ATEvent-e5da3026ef616057aee6419c2cf81133
LAST-MODIFIED:20220928T193624Z
SUMMARY:Einfache Grundlagen für den Gebrauch des Computers
DTSTART:20221027T133000Z
DTEND:20221027T153000Z
DESCRIPTION:Fragen und (hoffentlich) Antworten zu Mail\, Office\, etc.
 
LOCATION:Café Aufbruch\, Hintere Schildstr. 18\, Dortmund-Hörde
CATEGORIES:Computerkurs
CLASS:PUBLIC
END:VEVENT
END:VCALENDAR
