BEGIN:VCALENDAR
PRODID:-//AT Content Types//AT Event//EN
VERSION:2.0
METHOD:PUBLISH
BEGIN:VEVENT
DTSTAMP:20260421T101656Z
CREATED:20140826T150533Z
UID:ATEvent-77091b987a2a12a2dcd47dc6638aaa50
LAST-MODIFIED:20140830T194258Z
SUMMARY:Dokumentarfilm\: "Grünkohl\, Gifte und Geschäfte\, der Skandal um die Firma Envio"
DTSTART:20140908T170000Z
DTEND:20140908T183000Z
DESCRIPTION:Im Frühjahr 2010 wurde publik\, dass die Firma\neine mass
 ive Vergiftung mehrerer Mitarbeiter durch PCB sowie die\nVerseuchung d
 es Firmengeländes und umliegender Flächen zu verantworten\nhat. Bei 
 dem Giftskandal handelt es sich um die bundesweit größte\nPCB-Katast
 rophe der letzten Jahrzehnte. Blutwerte betroffener\nMitarbeiter der E
 nvio AG wiesen eine Erhöhung der PCB-Werte bis zum\n25.000-Fachen auf
 .
LOCATION:Café Aufbruch\, Hintere Schildstr. 18\, Dortmund-Hörde
CATEGORIES:Film mit Diskussion
CLASS:PUBLIC
END:VEVENT
END:VCALENDAR
