BEGIN:VCALENDAR
PRODID:-//AT Content Types//AT Event//EN
VERSION:1.0
BEGIN:VEVENT
DTSTART:20120203T180000Z
DTEND:20120203T200000Z
DCREATED:20120122T174213Z
UID:ATEvent-becc97eab3811a69eb12c1500798cdc8
SEQUENCE:0
LAST-MODIFIED:20120122T174251Z
SUMMARY:Dokumentarfilm\: "Gekaufte Wahrheit - Gentechnik im Magnetfeld des Geldes"
DESCRIPTION:In Zusammenarbeit mit der Greenpeace Gruppe Dortmund.
LOCATION:Café Aufbruch\, Hintere Schildstr. 18\, Dortmund-Hörde
PRIORITY:3
TRANSP:0
END:VEVENT
END:VCALENDAR
