BEGIN:VCALENDAR
PRODID:-//AT Content Types//AT Event//EN
VERSION:2.0
METHOD:PUBLISH
BEGIN:VEVENT
DTSTAMP:20260421T083338Z
CREATED:20140226T202240Z
UID:ATEvent-02c454e7b258c618a3283e489a8abadc
LAST-MODIFIED:20140226T202247Z
SUMMARY:Dokumentarfilm\: „Leben außer Kontrolle - Von Genfood und Designerbabies“
DTSTART:20140320T180000Z
DTEND:20140320T193000Z
DESCRIPTION:Ein Film von Bertram Verhaag und Gabriele Kröber.\nIn Zus
 ammenarbeit mit der Greenpeace-Gruppe Dortmund.
LOCATION:Café Aufbruch\, Hintere Schildstr. 18\, Dortmund Hörde
CATEGORIES:Film
CLASS:PUBLIC
END:VEVENT
END:VCALENDAR
