BEGIN:VCALENDAR
PRODID:-//AT Content Types//AT Event//EN
VERSION:1.0
BEGIN:VEVENT
DTSTART:20220811T150000Z
DTEND:20220811T170000Z
DCREATED:20120122T211129Z
UID:ATEvent-42547a516a37d6d0e52ea60ce7f4ff60
SEQUENCE:0
LAST-MODIFIED:20220725T133213Z
SUMMARY:"Dies und Das" - Gesprächskreis über Philosophie\, Geschichte\, Politik...
DESCRIPTION:Heute\: Carl von Clausewitz - "Vom Kriege"
LOCATION:Café Aufbruch\, Hintere Schildstr. 18\, Dortmund-Hörde
PRIORITY:3
TRANSP:0
END:VEVENT
END:VCALENDAR
