BEGIN:VCALENDAR
PRODID:-//AT Content Types//AT Event//EN
VERSION:2.0
METHOD:PUBLISH
BEGIN:VEVENT
DTSTAMP:20260421T112113Z
CREATED:20090212T211358Z
UID:ATEvent-1904dee6d9e44c5cdb75018ce33455a4
LAST-MODIFIED:20090217T215754Z
SUMMARY:"Die letzten Helden"
DTSTART:20090306T183000Z
DTEND:20090306T203000Z
DESCRIPTION:Wir zeigen einen Film über Weggefährten von Emiliano Zap
 ata.\nRosalinde Siebenhaar berichtet dazu\; sie war 2008 als Menschenr
 echtsbeobachterin in Chiapas/Mexiko.\nMit anschließender Diskussion.
LOCATION:Café Aufbruch\, Hintere Schildstr. 18\, Do-Hörde
CATEGORIES:Film mit Diskussion
CLASS:PUBLIC
END:VEVENT
END:VCALENDAR
