BEGIN:VCALENDAR
PRODID:-//AT Content Types//AT Event//EN
VERSION:1.0
BEGIN:VEVENT
DTSTART:20160319T140000Z
DTEND:20160319T163000Z
DCREATED:20160314T200404Z
UID:ATEvent-02f9ba8643930c3c8bc9a6d3887dabd1
SEQUENCE:0
LAST-MODIFIED:20160314T200423Z
SUMMARY:Die "Erd - Charta"  und die Ökumenische Initiative Eine Welt e.V. und was hat  "Anders besser leben"  damit zu tun?
DESCRIPTION:Referentin\: Doris De Cruz\nvon "Aufbruch - Anders besser 
 leben" e.V.
LOCATION:Café Aufbruch\, Hintere Schildstr. 18\,  Do-Hörde
PRIORITY:3
TRANSP:0
END:VEVENT
END:VCALENDAR
