BEGIN:VCALENDAR
PRODID:-//AT Content Types//AT Event//EN
VERSION:1.0
BEGIN:VEVENT
DTSTART:20100829T120000Z
DTEND:20100829T173000Z
DCREATED:20100728T184259Z
UID:ATEvent-165188f3375ba1f20d3f15411f33a623
SEQUENCE:0
LAST-MODIFIED:20100825T193005Z
SUMMARY:Sommerfest
DESCRIPTION:im und am Café Aufbruch
LOCATION:Café Aufbruch\, Hintere Schildstr. 18\, Do-Hörde
PRIORITY:3
TRANSP:0
END:VEVENT
END:VCALENDAR
