BEGIN:VCALENDAR
PRODID:-//AT Content Types//AT Event//EN
VERSION:2.0
METHOD:PUBLISH
BEGIN:VEVENT
DTSTAMP:20260421T112653Z
CREATED:20090223T212516Z
UID:ATEvent-89d2820fea0a72c0f03112c5dbb39040
LAST-MODIFIED:20090402T194528Z
SUMMARY:Nadel und Faden im Café
DTSTART:20090407T140000Z
DTEND:20090407T153000Z
DESCRIPTION:Es wird gestrickt\, gesponnen und erzählt.
LOCATION:Café Aufbruch\, Hintere Schildstr. 18\, Do-Hörde
CATEGORIES:Kreativwerkstatt
CLASS:PUBLIC
END:VEVENT
END:VCALENDAR
