BEGIN:VCALENDAR
PRODID:-//AT Content Types//AT Event//EN
VERSION:1.0
BEGIN:VEVENT
DTSTART:20090322T140000Z
DTEND:20090322T200000Z
DCREATED:20090202T210208Z
UID:ATEvent-cfc0f215d21b9120f488096e6e6e9371
SEQUENCE:0
LAST-MODIFIED:20090225T211321Z
SUMMARY:Jahreszeitenfest
DESCRIPTION:Wir feiern den Frühlingsanfang.
LOCATION:Café Aufbruch\, Hintere Schildstr. 18\, Dortmund-Hörde und im Marksbachtal
PRIORITY:3
TRANSP:0
END:VEVENT
END:VCALENDAR
