BEGIN:VCALENDAR
PRODID:-//AT Content Types//AT Event//EN
VERSION:2.0
METHOD:PUBLISH
BEGIN:VEVENT
DTSTAMP:20260421T082348Z
CREATED:20100126T104236Z
UID:ATEvent-ba11c3a87c8b48d91a6144eeca100391
LAST-MODIFIED:20130522T152253Z
SUMMARY:Wildkräuterküche - Essbare Kräuter von Wald\, Wiese und Wegesrand. Ernährungsberatung.
DTSTART:20130605T150000Z
DTEND:20130605T160000Z
DESCRIPTION:Fragen der Teilnehmer/innen sind willkommen!
LOCATION:Café Aufbruch\, Hintere Schildstr. 18\, Do-Hörde
CATEGORIES:Gesund besser leben
CLASS:PUBLIC
END:VEVENT
END:VCALENDAR
