BEGIN:VCALENDAR
PRODID:-//AT Content Types//AT Event//EN
VERSION:2.0
METHOD:PUBLISH
BEGIN:VEVENT
DTSTAMP:20260421T112702Z
CREATED:20090724T092125Z
UID:ATEvent-71f8f91ccea92d72d42abdc9950b1d6e
LAST-MODIFIED:20090930T084557Z
SUMMARY:„Greenies“\:  Völkerverbindendes Häkeln nach Yutta Saftien
DTSTART:20091007T143000Z
DTEND:20091007T153000Z
DESCRIPTION:Wir treffen uns\, um einen Beitrag zu einer großen grüne
 n "Schlange" (Greeny) aus gehäkeltem oder gestricktem Garn für die B
 osporus-Brücke in Istanbul zu leisten.
LOCATION:Café Aufbruch\, Hintere Schildstrasse 18
CATEGORIES:Aktionen
CLASS:PUBLIC
END:VEVENT
END:VCALENDAR
