BEGIN:VCALENDAR
PRODID:-//AT Content Types//AT Event//EN
VERSION:2.0
METHOD:PUBLISH
BEGIN:VEVENT
DTSTAMP:20260421T082542Z
CREATED:20090223T212516Z
UID:ATEvent-a9fb4c391f5c6c865931f8d6284e51a1
LAST-MODIFIED:20130522T141034Z
SUMMARY:Nadel und Faden im Café
DTSTART:20130625T140000Z
DTEND:20130625T153000Z
DESCRIPTION:Es wird gestrickt\, gehäkelt\, gesponnen und erzählt.
LOCATION:Café Aufbruch\, Hintere Schildstr. 18\, Do-Hörde
CATEGORIES:Kreativwerkstatt
CLASS:PUBLIC
END:VEVENT
END:VCALENDAR
