BEGIN:VCALENDAR
PRODID:-//AT Content Types//AT Event//EN
VERSION:2.0
METHOD:PUBLISH
BEGIN:VEVENT
DTSTAMP:20260421T112544Z
CREATED:20080511T192718Z
UID:ATEvent-03ea6b455273ad36ef6ac4467586d9a7
LAST-MODIFIED:20090212T205507Z
SUMMARY:Matriarchaler Kulturkreis
DTSTART:20090228T140000Z
DTEND:20090228T153000Z
DESCRIPTION:Heute\: Matriarchale Ästhetik
LOCATION:Café Aufbruch\, Hintere Schildstr. 18\, Do-Hörde
CATEGORIES:Gesprächsrunde
CLASS:PUBLIC
END:VEVENT
END:VCALENDAR
