BEGIN:VCALENDAR
PRODID:-//AT Content Types//AT Event//EN
VERSION:2.0
METHOD:PUBLISH
BEGIN:VEVENT
DTSTAMP:20260421T110802Z
CREATED:20080626T101557Z
UID:ATEvent-083d326cfd0bad4e815f5400f25901b8
LAST-MODIFIED:20090202T204307Z
SUMMARY:Organisationstreffen der Mitarbeitenden
DTSTART:20090203T163000Z
DTEND:20090203T190000Z
DESCRIPTION:Die MitarbeiterInnen des Café Aufbruch und Mitglieder der
  Aufbruchinitiative treffen sich um Organisationsfragen zu besprechen.
 
LOCATION:Café Aufbruch\, Hintere Schildstr. 18\, Do-Hörde
CATEGORIES:Arbeitstreffen
CLASS:PUBLIC
END:VEVENT
END:VCALENDAR
