BEGIN:VCALENDAR
PRODID:-//AT Content Types//AT Event//EN
VERSION:1.0
BEGIN:VEVENT
DTSTART:20090205T180000Z
DTEND:20090205T200000Z
DCREATED:20070930T151523Z
UID:ATEvent-5e9809e66a0d758165c82cc8926d41d5
SEQUENCE:0
LAST-MODIFIED:20090202T205820Z
SUMMARY:Philosophenlounge - Thema\:  „Verdammt zum Glücklichsein"
DESCRIPTION:Treffen rund um Lebenskunst und Philosophie
LOCATION:Café Aufbruch\, Hintere Schildstr. 18\, Do-Hörde
PRIORITY:3
TRANSP:0
END:VEVENT
END:VCALENDAR
