BEGIN:VCALENDAR
PRODID:-//AT Content Types//AT Event//EN
VERSION:1.0
BEGIN:VEVENT
DTSTART:20090203T180000Z
DTEND:20090203T193000Z
DCREATED:20080511T195146Z
UID:ATEvent-5a1919700b9585b46fa52be117e08e11
SEQUENCE:0
LAST-MODIFIED:20090202T205528Z
SUMMARY:Qigong-Kurs
DESCRIPTION:8 Brokate
LOCATION:Café Aufbruch\, Hintere Schildstr. 18\, Do-Hörde
PRIORITY:3
TRANSP:0
END:VEVENT
END:VCALENDAR
