BEGIN:VCALENDAR
PRODID:-//AT Content Types//AT Event//EN
VERSION:2.0
METHOD:PUBLISH
BEGIN:VEVENT
DTSTAMP:20260421T082247Z
CREATED:20080511T164320Z
UID:ATEvent-b20de800500e49fee262e45d21cdf3a2
LAST-MODIFIED:20090223T212123Z
SUMMARY:Gesprächskreis
DTSTART:20090302T183000Z
DTEND:20090302T200000Z
DESCRIPTION:Grundlagen einer integralen Lebenspraxis. Heute\: Ist der 
 integrale Ansatz alltagstauglich?
LOCATION:Café Aufbruch\, Hintere Schildstr. 18\, Do-Hörde
CATEGORIES:Gesprächsrunde
CLASS:PUBLIC
END:VEVENT
END:VCALENDAR
