BEGIN:VCALENDAR
PRODID:-//AT Content Types//AT Event//EN
VERSION:2.0
METHOD:PUBLISH
BEGIN:VEVENT
DTSTAMP:20260420T082412Z
CREATED:20070224T140926Z
UID:ATEvent-79a7df7b7c1e755e04713d3fd94d5128
LAST-MODIFIED:20090123T152022Z
SUMMARY:Atemtherapie
DTSTART:20070614T170000Z
DTEND:20070614T183000Z
DESCRIPTION:Aufatmen - Durchatmen\nEinführung in die Atemtherapie nac
 h Ilse Middendorf\nAchtung\: ausgebucht bis zu den Sommerferien
LOCATION:Café Aufbruch\, Hintere Schildstr. 18\, Do-Hörde
CATEGORIES:Atemtherapie
CLASS:PUBLIC
END:VEVENT
END:VCALENDAR
