BEGIN:VCALENDAR
PRODID:-//AT Content Types//AT Event//EN
VERSION:2.0
METHOD:PUBLISH
BEGIN:VEVENT
DTSTAMP:20260421T082411Z
CREATED:20090223T212516Z
UID:ATEvent-ccabf8bc1e09a2f4a7813af672358511
LAST-MODIFIED:20090828T083616Z
SUMMARY:Nadel und Faden im Café
DTSTART:20091103T150000Z
DTEND:20091103T163000Z
DESCRIPTION:Es wird gestrickt\, gesponnen und erzählt.
LOCATION:Café Aufbruch\, Hintere Schildstr. 18\, Do-Hörde
CATEGORIES:Kreativwerkstatt
CLASS:PUBLIC
END:VEVENT
END:VCALENDAR
