BEGIN:VCALENDAR
PRODID:-//AT Content Types//AT Event//EN
VERSION:2.0
METHOD:PUBLISH
BEGIN:VEVENT
DTSTAMP:20260421T082450Z
CREATED:20070616T131527Z
UID:ATEvent-9965286e0f57c93d453d9ea28f9bd57e
LAST-MODIFIED:20091101T162600Z
SUMMARY:Frauencafé Couragina
DTSTART:20091113T160000Z
DTEND:20091113T173000Z
DESCRIPTION:Heute\: Mutige iranische Frauen\, früher und heute.
LOCATION:Café Aufbruch\, Hintere Schildstr. 18\, Do-Hörde
CATEGORIES:Gesprächsrunde
CLASS:PUBLIC
END:VEVENT
END:VCALENDAR
