BEGIN:VCALENDAR
PRODID:-//AT Content Types//AT Event//EN
VERSION:2.0
METHOD:PUBLISH
BEGIN:VEVENT
DTSTAMP:20260421T112532Z
CREATED:20080511T195146Z
UID:ATEvent-042bb054222fbf6e975746a52d3e7254
LAST-MODIFIED:20091202T211738Z
SUMMARY:Qigong-Kurs
DTSTART:20091208T180000Z
DTEND:20091208T193000Z
DESCRIPTION:Die 15 Ausdruckformen
LOCATION:Café Aufbruch\, Hintere Schildstr. 18\, Do-Hörde
CATEGORIES:Qigongkurs
CLASS:PUBLIC
END:VEVENT
END:VCALENDAR
