BEGIN:VCALENDAR
PRODID:-//AT Content Types//AT Event//EN
VERSION:2.0
METHOD:PUBLISH
BEGIN:VEVENT
DTSTAMP:20260421T082245Z
CREATED:20080511T164320Z
UID:ATEvent-95650c193da70ddddfe38889fa07d1d2
LAST-MODIFIED:20091101T161611Z
SUMMARY:Gesprächskreis
DTSTART:20091109T183000Z
DTEND:20091109T200000Z
DESCRIPTION:Grundlagen einer integralen Lebenspraxis. Heute\: „Freun
 d oder Feind\: Der Schatten“
LOCATION:Café Aufbruch\, Hintere Schildstr. 18\, Do-Hörde
CATEGORIES:Gesprächsrunde
CLASS:PUBLIC
END:VEVENT
END:VCALENDAR
