BEGIN:VCALENDAR
PRODID:-//AT Content Types//AT Event//EN
VERSION:1.0
BEGIN:VEVENT
DTSTART:20091212T123000Z
DTEND:20091212T140000Z
DCREATED:20080511T192718Z
UID:ATEvent-c1db50dfa94fd941a5d728770344879c
SEQUENCE:0
LAST-MODIFIED:20091202T220016Z
SUMMARY:Matriarchaler Kulturkreis
LOCATION:Café Aufbruch\, Hintere Schildstr. 18\, Do-Hörde
PRIORITY:3
TRANSP:0
END:VEVENT
END:VCALENDAR
