BEGIN:VCALENDAR
PRODID:-//AT Content Types//AT Event//EN
VERSION:2.0
METHOD:PUBLISH
BEGIN:VEVENT
DTSTAMP:20260421T112059Z
CREATED:20090212T210301Z
UID:ATEvent-b9c021d34127e3eddcfe1e606eba139f
LAST-MODIFIED:20090828T081147Z
SUMMARY:Interner Treff
DTSTART:20090916T180000Z
DTEND:20090916T193000Z
DESCRIPTION:Monatliches\, informelles Treffen für Mitarbeitende\, Fre
 undinnen und Freunde des Café Aufbruch.
LOCATION:Café Aufbruch\, Hintere Schildstr. 18\, Do-Hörde
CATEGORIES:Gesprächsrunde
CLASS:PUBLIC
END:VEVENT
END:VCALENDAR
