BEGIN:VCALENDAR
PRODID:-//AT Content Types//AT Event//EN
VERSION:2.0
METHOD:PUBLISH
BEGIN:VEVENT
DTSTAMP:20260421T112546Z
CREATED:20080511T192718Z
UID:ATEvent-7a72f313b3941b822bd32694ac99cb5d
LAST-MODIFIED:20091101T163628Z
SUMMARY:Matriarchaler Kulturkreis
DTSTART:20091128T140000Z
DTEND:20091128T153000Z
LOCATION:Café Aufbruch\, Hintere Schildstr. 18\, Do-Hörde
CATEGORIES:Gesprächsrunde
CLASS:PUBLIC
END:VEVENT
END:VCALENDAR
