BEGIN:VCALENDAR
PRODID:-//AT Content Types//AT Event//EN
VERSION:1.0
BEGIN:VEVENT
DTSTART:20150926T150000Z
DTEND:20150926T180000Z
DCREATED:20070806T105207Z
UID:ATEvent-9a6941f4d9072bbe9e9a3dfede1d89c3
SEQUENCE:0
LAST-MODIFIED:20150906T122117Z
SUMMARY:Aufbruch-Treffen
DESCRIPTION:Monatliches Treffen unserer Initiative „Aufbruch - ander
 s besser leben“. Austausch\, Informationen\, gemeinsam essen (Alle b
 ringen etwas mit).
LOCATION:Café Aufbruch\, Hintere Schildstr. 18\, Dortmund-Hörde
PRIORITY:3
TRANSP:0
END:VEVENT
END:VCALENDAR
