BEGIN:VCALENDAR
PRODID:-//AT Content Types//AT Event//EN
VERSION:2.0
METHOD:PUBLISH
BEGIN:VEVENT
DTSTAMP:20260421T112537Z
CREATED:20080511T164320Z
UID:ATEvent-18ec0ae662bcf6a38fb267a2ad5bbaff
LAST-MODIFIED:20090827T201415Z
SUMMARY:Gesprächskreis
DTSTART:20090907T173000Z
DTEND:20090907T190000Z
DESCRIPTION:Grundlagen einer integralen Lebenspraxis. Heute\: „Depre
 ssion und Integrale Psychotherapie“
LOCATION:Café Aufbruch\, Hintere Schildstr. 18\, Do-Hörde
CATEGORIES:Gesprächsrunde
CLASS:PUBLIC
END:VEVENT
END:VCALENDAR
