BEGIN:VCALENDAR
PRODID:-//AT Content Types//AT Event//EN
VERSION:2.0
METHOD:PUBLISH
BEGIN:VEVENT
DTSTAMP:20260421T112157Z
CREATED:20070425T104612Z
UID:ATEvent-5e9fac1a6a27fb4b6800dcee842592a9
LAST-MODIFIED:20090406T191110Z
SUMMARY:Einführung in die Nutzung freier Software
DTSTART:20090527T180000Z
DTEND:20090527T193000Z
DESCRIPTION:(Neue) AnwenderInnen freier Software erlernen die wichtigs
 ten Zusammenhänge und Anwendungsprogramme für den Alltagsgebrauch ih
 res (befreiten\:) Computers
LOCATION:Café Aufbruch\, Hintere Schildstr. 18\, Do-Hörde
CATEGORIES:Computerkurs
CONTACT:cafe-aufbruch@dieseswortloeschen.free.de
CLASS:PUBLIC
END:VEVENT
END:VCALENDAR
