BEGIN:VCALENDAR
PRODID:-//AT Content Types//AT Event//EN
VERSION:2.0
METHOD:PUBLISH
BEGIN:VEVENT
DTSTAMP:20260421T082413Z
CREATED:20080511T192718Z
UID:ATEvent-f4dd49adfc834b39c19a65992735b91b
LAST-MODIFIED:20090930T093154Z
SUMMARY:Matriarchaler Kulturkreis
DTSTART:20091031T140000Z
DTEND:20091031T153000Z
LOCATION:Café Aufbruch\, Hintere Schildstr. 18\, Do-Hörde
CATEGORIES:Gesprächsrunde
CLASS:PUBLIC
END:VEVENT
END:VCALENDAR
