BEGIN:VCALENDAR
PRODID:-//AT Content Types//AT Event//EN
VERSION:1.0
BEGIN:VEVENT
DTSTART:20090814T150000Z
DTEND:20090814T163000Z
DCREATED:20070616T131527Z
UID:ATEvent-21c438c3492fa35be029f6a8ac3eac50
SEQUENCE:0
LAST-MODIFIED:20090724T090649Z
SUMMARY:FrauencafÃ© Couragina
DESCRIPTION:Heute\: â€žDie BachblÃ¼tentherapie im praktischen Alltagâ€
 œ
LOCATION:CafÃ© Aufbruch\, Hintere Schildstr. 18\, Do-HÃ¶rde
PRIORITY:3
TRANSP:0
END:VEVENT
END:VCALENDAR
