BEGIN:VCALENDAR
PRODID:-//AT Content Types//AT Event//EN
VERSION:1.0
BEGIN:VEVENT
DTSTART:20090707T161500Z
DTEND:20090707T173000Z
DCREATED:20080626T101557Z
UID:ATEvent-742771b5ae6ce083d36ccfef79b6290c
SEQUENCE:0
LAST-MODIFIED:20090703T123712Z
SUMMARY:Organisationstreffen der Mitarbeitenden
DESCRIPTION:Die MitarbeiterInnen des Café Aufbruch und Mitglieder der
  Aufbruchinitiative treffen sich um Organisationsfragen zu besprechen.
 
LOCATION:Café Aufbruch\, Hintere Schildstr. 18\, Do-Hörde
PRIORITY:3
TRANSP:0
END:VEVENT
END:VCALENDAR
