BEGIN:VCALENDAR
PRODID:-//AT Content Types//AT Event//EN
VERSION:1.0
BEGIN:VEVENT
DTSTART:20090803T173000Z
DTEND:20090803T190000Z
DCREATED:20080511T164320Z
UID:ATEvent-babb0e5353455984355cb26ff8436841
SEQUENCE:0
LAST-MODIFIED:20090723T083808Z
SUMMARY:Gesprächskreis
DESCRIPTION:Grundlagen einer integralen Lebenspraxis. Heute\: "Emotion
 ale Intelligenz"
LOCATION:Café Aufbruch\, Hintere Schildstr. 18\, Do-Hörde
PRIORITY:3
TRANSP:0
END:VEVENT
END:VCALENDAR
