BEGIN:VCALENDAR
PRODID:-//AT Content Types//AT Event//EN
VERSION:1.0
BEGIN:VEVENT
DTSTART:20090926T123000Z
DTEND:20090926T140000Z
DCREATED:20080511T192718Z
UID:ATEvent-01d45c7116680b4c2d0d25130555f3b2
SEQUENCE:0
LAST-MODIFIED:20090826T191955Z
SUMMARY:Matriarchaler Kulturkreis
DESCRIPTION:Heute\: "Theorie der Feste"
LOCATION:Café Aufbruch\, Hintere Schildstr. 18\, Do-Hörde
PRIORITY:3
TRANSP:0
END:VEVENT
END:VCALENDAR
