BEGIN:VCALENDAR
PRODID:-//AT Content Types//AT Event//EN
VERSION:2.0
METHOD:PUBLISH
BEGIN:VEVENT
DTSTAMP:20260421T112228Z
CREATED:20070930T151523Z
UID:ATEvent-5c67b3d29944d0cf0d7d2ef8e99d188f
LAST-MODIFIED:20090527T200635Z
SUMMARY:Philosophenlounge - Mit wechselnden Themen
DTSTART:20090604T170000Z
DTEND:20090604T190000Z
DESCRIPTION:Treffen rund um Lebenskunst und Philosophie
LOCATION:Café Aufbruch\, Hintere Schildstr. 18\, Do-Hörde
CATEGORIES:Gesprächsrunde
CLASS:PUBLIC
END:VEVENT
END:VCALENDAR
