BEGIN:VCALENDAR
PRODID:-//AT Content Types//AT Event//EN
VERSION:2.0
METHOD:PUBLISH
BEGIN:VEVENT
DTSTAMP:20260421T112532Z
CREATED:20080511T195146Z
UID:ATEvent-65adef8e27b02a0d12f823fe2200bee9
LAST-MODIFIED:20090724T091403Z
SUMMARY:Qigong-Kurs
DTSTART:20090818T170000Z
DTEND:20090818T183000Z
DESCRIPTION:Die 15 Ausdruckformen
LOCATION:Café Aufbruch\, Hintere Schildstr. 18\, Do-Hörde
CATEGORIES:Qigongkurs
CLASS:PUBLIC
END:VEVENT
END:VCALENDAR
