BEGIN:VCALENDAR
PRODID:-//AT Content Types//AT Event//EN
VERSION:2.0
METHOD:PUBLISH
BEGIN:VEVENT
DTSTAMP:20260421T112650Z
CREATED:20090223T212516Z
UID:ATEvent-33116a7e3662aba75691e18f47d66005
LAST-MODIFIED:20090527T194455Z
SUMMARY:Nadel und Faden im Café
DTSTART:20090609T140000Z
DTEND:20090609T153000Z
DESCRIPTION:Es wird gestrickt\, gesponnen und erzählt.
LOCATION:Café Aufbruch\, Hintere Schildstr. 18\, Do-Hörde
CATEGORIES:Kreativwerkstatt
CLASS:PUBLIC
END:VEVENT
END:VCALENDAR
